BEGIN:VCALENDAR
VERSION:2.0
PRODID:-//Bio-Medica-Basel - ECPv6.15.20//NONSGML v1.0//EN
CALSCALE:GREGORIAN
METHOD:PUBLISH
X-WR-CALNAME:Bio-Medica-Basel
X-ORIGINAL-URL:https://bio-medica-basel.ch
X-WR-CALDESC:Veranstaltungen für Bio-Medica-Basel
REFRESH-INTERVAL;VALUE=DURATION:PT1H
X-Robots-Tag:noindex
X-PUBLISHED-TTL:PT1H
BEGIN:VTIMEZONE
TZID:Europe/Zurich
BEGIN:DAYLIGHT
TZOFFSETFROM:+0100
TZOFFSETTO:+0200
TZNAME:CEST
DTSTART:20250330T010000
END:DAYLIGHT
BEGIN:STANDARD
TZOFFSETFROM:+0200
TZOFFSETTO:+0100
TZNAME:CET
DTSTART:20251026T010000
END:STANDARD
BEGIN:DAYLIGHT
TZOFFSETFROM:+0100
TZOFFSETTO:+0200
TZNAME:CEST
DTSTART:20260329T010000
END:DAYLIGHT
BEGIN:STANDARD
TZOFFSETFROM:+0200
TZOFFSETTO:+0100
TZNAME:CET
DTSTART:20261025T010000
END:STANDARD
BEGIN:DAYLIGHT
TZOFFSETFROM:+0100
TZOFFSETTO:+0200
TZNAME:CEST
DTSTART:20270328T010000
END:DAYLIGHT
BEGIN:STANDARD
TZOFFSETFROM:+0200
TZOFFSETTO:+0100
TZNAME:CET
DTSTART:20271031T010000
END:STANDARD
END:VTIMEZONE
BEGIN:VEVENT
DTSTART;TZID=Europe/Zurich:20260428T180000
DTEND;TZID=Europe/Zurich:20260428T190000
DTSTAMP:20260419T224319
CREATED:20260223T080827Z
LAST-MODIFIED:20260223T080929Z
UID:45328-1777399200-1777402800@bio-medica-basel.ch
SUMMARY:Praxismanagement leicht gemacht: Einführung in die Praxissoftware von Sanasearch
DESCRIPTION:Zur  Anmeldung
URL:https://bio-medica-basel.ch/veranstaltungen/praxismanagement-leicht-gemacht-einfuhrung-in-die-praxissoftware-von-sanasearch/
CATEGORIES:Gratis-Webinare
END:VEVENT
BEGIN:VEVENT
DTSTART;TZID=Europe/Zurich:20260508T190000
DTEND;TZID=Europe/Zurich:20260508T200000
DTSTAMP:20260419T224319
CREATED:20250923T063036Z
LAST-MODIFIED:20260213T120340Z
UID:42801-1778266800-1778270400@bio-medica-basel.ch
SUMMARY:Infoabend vor Ort\, 8. Mai
DESCRIPTION:Wir informieren dich gerne in unseren stimmungsvollen Schulräumlichkeiten über die 30-jährige Bio-Medica-Schulentwicklung. An diesem informativen Abend lernst du unser Ausbildungs-\, Weiterbildung- und Kursangebot kennen. Der Infoabend beginnt um 19.00 Uhr und dauert ungefähr bis 20.00 Uhr. Anschliessend beantworten wir gerne deine offenen Fragen.
URL:https://bio-medica-basel.ch/veranstaltungen/infoabend-8-mai/
LOCATION:Bio-Medica Fachschule GmbH\, Schweizergasse 33\, Basel\, 4054\, Schweiz
CATEGORIES:Infoabende
ATTACH;FMTTYPE=image/jpeg:https://bio-medica-basel.ch/wp-content/uploads/2021/09/Infoabend.jpg
ORGANIZER;CN="Bio-Medica Fachschule GmbH":MAILTO:info@bio-medica-basel.ch
END:VEVENT
BEGIN:VEVENT
DTSTART;TZID=Europe/Zurich:20260519T180000
DTEND;TZID=Europe/Zurich:20260519T190000
DTSTAMP:20260419T224319
CREATED:20260223T080954Z
LAST-MODIFIED:20260223T081033Z
UID:45331-1779213600-1779217200@bio-medica-basel.ch
SUMMARY:Mein Webauftritt: Was macht eine überzeugende Website aus?
DESCRIPTION:Zur  Anmeldung
URL:https://bio-medica-basel.ch/veranstaltungen/mein-webauftritt-was-macht-eine-uberzeugende-website-aus/
CATEGORIES:Gratis-Webinare
END:VEVENT
BEGIN:VEVENT
DTSTART;TZID=Europe/Zurich:20260526T183000
DTEND;TZID=Europe/Zurich:20260526T193000
DTSTAMP:20260419T224319
CREATED:20251211T102909Z
LAST-MODIFIED:20260213T120333Z
UID:43920-1779820200-1779823800@bio-medica-basel.ch
SUMMARY:Infoabend Online\, 26. Mai
DESCRIPTION:Der Zoom-Link wird nach deiner Anmeldung per Mail verschickt.\nWir informieren dich gerne online über die 30-jährige Bio-Medica-Schulentwicklung. An diesem informativen Abend lernst du unser Ausbildungs-\, Weiterbildung- und Kursangebot kennen. Der Infoabend beginnt um 18.30 Uhr und dauert ungefähr bis 19.30 Uhr. Anschliessend beantworten wir gerne deine offenen Fragen.
URL:https://bio-medica-basel.ch/veranstaltungen/infoabend-26-mai/
LOCATION:Bio-Medica Fachschule GmbH\, Schweizergasse 33\, Basel\, 4054\, Schweiz
CATEGORIES:Infoabende
ATTACH;FMTTYPE=image/jpeg:https://bio-medica-basel.ch/wp-content/uploads/2021/09/Infoabend.jpg
ORGANIZER;CN="Bio-Medica Fachschule GmbH":MAILTO:info@bio-medica-basel.ch
END:VEVENT
BEGIN:VEVENT
DTSTART;TZID=Europe/Zurich:20260609T180000
DTEND;TZID=Europe/Zurich:20260609T190000
DTSTAMP:20260419T224319
CREATED:20260223T081100Z
LAST-MODIFIED:20260223T081148Z
UID:45334-1781028000-1781031600@bio-medica-basel.ch
SUMMARY:SEO-Check: So verbesserst Du Dein Ranking bei Google
DESCRIPTION:Zur  Anmeldung
URL:https://bio-medica-basel.ch/veranstaltungen/seo-check-so-verbesserst-du-dein-ranking-bei-google/
CATEGORIES:Gratis-Webinare
END:VEVENT
BEGIN:VEVENT
DTSTART;TZID=Europe/Zurich:20260618T190000
DTEND;TZID=Europe/Zurich:20260618T200000
DTSTAMP:20260419T224319
CREATED:20250923T063032Z
LAST-MODIFIED:20260213T120328Z
UID:42800-1781809200-1781812800@bio-medica-basel.ch
SUMMARY:Infoabend vor Ort\, 18. Juni
DESCRIPTION:Wir informieren dich gerne in unseren stimmungsvollen Schulräumlichkeiten über die 30-jährige Bio-Medica-Schulentwicklung. An diesem informativen Abend lernst du unser Ausbildungs-\, Weiterbildung- und Kursangebot kennen. Der Infoabend beginnt um 19.30 Uhr und dauert ungefähr bis 20.30 Uhr. Anschliessend beantworten wir gerne deine offenen Fragen.
URL:https://bio-medica-basel.ch/veranstaltungen/infoabend-18-juni/
LOCATION:Bio-Medica Fachschule GmbH\, Schweizergasse 33\, Basel\, 4054\, Schweiz
CATEGORIES:Infoabende
ATTACH;FMTTYPE=image/jpeg:https://bio-medica-basel.ch/wp-content/uploads/2021/09/Infoabend.jpg
ORGANIZER;CN="Bio-Medica Fachschule GmbH":MAILTO:info@bio-medica-basel.ch
END:VEVENT
BEGIN:VEVENT
DTSTART;TZID=Europe/Zurich:20260821T190000
DTEND;TZID=Europe/Zurich:20260821T200000
DTSTAMP:20260419T224319
CREATED:20250923T063027Z
LAST-MODIFIED:20260213T120324Z
UID:42799-1787338800-1787342400@bio-medica-basel.ch
SUMMARY:Infoabend vor Ort\, 21. August
DESCRIPTION:Wir informieren dich gerne in unseren stimmungsvollen Schulräumlichkeiten über die 30-jährige Bio-Medica-Schulentwicklung. An diesem informativen Abend lernst du unser Ausbildungs-\, Weiterbildung- und Kursangebot kennen. Der Infoabend beginnt um 19.00 Uhr und dauert ungefähr bis 20.00 Uhr. Anschliessend beantworten wir gerne deine offenen Fragen.
URL:https://bio-medica-basel.ch/veranstaltungen/infoabend-21-august/
LOCATION:Bio-Medica Fachschule GmbH\, Schweizergasse 33\, Basel\, 4054\, Schweiz
CATEGORIES:Infoabende
ATTACH;FMTTYPE=image/jpeg:https://bio-medica-basel.ch/wp-content/uploads/2021/09/Infoabend.jpg
ORGANIZER;CN="Bio-Medica Fachschule GmbH":MAILTO:info@bio-medica-basel.ch
END:VEVENT
BEGIN:VEVENT
DTSTART;TZID=Europe/Zurich:20260825T180000
DTEND;TZID=Europe/Zurich:20260825T190000
DTSTAMP:20260419T224319
CREATED:20260223T081224Z
LAST-MODIFIED:20260223T081328Z
UID:45336-1787680800-1787684400@bio-medica-basel.ch
SUMMARY:Das EMR kennenlernen – Chancen für Deine Praxis
DESCRIPTION:Zur  Anmeldung
URL:https://bio-medica-basel.ch/veranstaltungen/das-emr-kennenlernen-chancen-fur-deine-praxis/
CATEGORIES:Gratis-Webinare
END:VEVENT
BEGIN:VEVENT
DTSTART;TZID=Europe/Zurich:20260901T180000
DTEND;TZID=Europe/Zurich:20260901T190000
DTSTAMP:20260419T224319
CREATED:20260223T081346Z
LAST-MODIFIED:20260223T081427Z
UID:45339-1788285600-1788289200@bio-medica-basel.ch
SUMMARY:Praxismanagement leicht gemacht: Einführung in die Praxissoftware von Sanasearch
DESCRIPTION:Zur  Anmeldung
URL:https://bio-medica-basel.ch/veranstaltungen/praxismanagement-leicht-gemacht-einfuhrung-in-die-praxissoftware-von-sanasearch-2/
CATEGORIES:Gratis-Webinare
END:VEVENT
BEGIN:VEVENT
DTSTART;TZID=Europe/Zurich:20260916T183000
DTEND;TZID=Europe/Zurich:20260916T193000
DTSTAMP:20260419T224319
CREATED:20250923T063023Z
LAST-MODIFIED:20260213T120303Z
UID:42798-1789583400-1789587000@bio-medica-basel.ch
SUMMARY:Infoabend Online\, 16. September
DESCRIPTION:Der Zoom-Link wird nach deiner Anmeldung per Mail verschickt.\nWir informieren dich gerne online über die 30-jährige Bio-Medica-Schulentwicklung. An diesem informativen Abend lernst du unser Ausbildungs-\, Weiterbildung- und Kursangebot kennen. Der Infoabend beginnt um 18.30 Uhr und dauert ungefähr bis 19.30 Uhr. Anschliessend beantworten wir gerne deine offenen Fragen.
URL:https://bio-medica-basel.ch/veranstaltungen/infoabend-16-september/
LOCATION:Bio-Medica Fachschule GmbH\, Schweizergasse 33\, Basel\, 4054\, Schweiz
CATEGORIES:Infoabende
ATTACH;FMTTYPE=image/jpeg:https://bio-medica-basel.ch/wp-content/uploads/2021/09/Infoabend.jpg
ORGANIZER;CN="Bio-Medica Fachschule GmbH":MAILTO:info@bio-medica-basel.ch
END:VEVENT
BEGIN:VEVENT
DTSTART;TZID=Europe/Zurich:20260923T180000
DTEND;TZID=Europe/Zurich:20260923T190000
DTSTAMP:20260419T224319
CREATED:20260223T081517Z
LAST-MODIFIED:20260223T081552Z
UID:45342-1790186400-1790190000@bio-medica-basel.ch
SUMMARY:Social Media für deine Praxis: Authentisch und erfolgreich auf Instagram
DESCRIPTION:Zur  Anmeldung
URL:https://bio-medica-basel.ch/veranstaltungen/social-media-fur-deine-praxis-authentisch-und-erfolgreich-auf-instagram/
CATEGORIES:Gratis-Webinare
END:VEVENT
BEGIN:VEVENT
DTSTART;TZID=Europe/Zurich:20260929T120000
DTEND;TZID=Europe/Zurich:20260929T124500
DTSTAMP:20260419T224319
CREATED:20260223T081623Z
LAST-MODIFIED:20260223T081723Z
UID:45344-1790683200-1790685900@bio-medica-basel.ch
SUMMARY:Orientierung in der Welt der Alternativmedizin (NVS)
DESCRIPTION:Zur  Anmeldung
URL:https://bio-medica-basel.ch/veranstaltungen/orientierung-in-der-welt-der-alternativmedizin-nvs-2/
CATEGORIES:Gratis-Webinare
END:VEVENT
BEGIN:VEVENT
DTSTART;TZID=Europe/Zurich:20261016T190000
DTEND;TZID=Europe/Zurich:20261016T200000
DTSTAMP:20260419T224319
CREATED:20250923T063019Z
LAST-MODIFIED:20260213T120259Z
UID:42797-1792177200-1792180800@bio-medica-basel.ch
SUMMARY:Infoabend vor Ort\, 16. Oktober
DESCRIPTION:Wir informieren dich gerne in unseren stimmungsvollen Schulräumlichkeiten über die 30-jährige Bio-Medica-Schulentwicklung. An diesem informativen Abend lernst du unser Ausbildungs-\, Weiterbildung- und Kursangebot kennen. Der Infoabend beginnt um 19.00 Uhr und dauert ungefähr bis 20.00 Uhr. Anschliessend beantworten wir gerne deine offenen Fragen.
URL:https://bio-medica-basel.ch/veranstaltungen/infoabend-16-oktober/
LOCATION:Bio-Medica Fachschule GmbH\, Schweizergasse 33\, Basel\, 4054\, Schweiz
CATEGORIES:Infoabende
ATTACH;FMTTYPE=image/jpeg:https://bio-medica-basel.ch/wp-content/uploads/2021/09/Infoabend.jpg
ORGANIZER;CN="Bio-Medica Fachschule GmbH":MAILTO:info@bio-medica-basel.ch
END:VEVENT
BEGIN:VEVENT
DTSTART;TZID=Europe/Zurich:20261020T180000
DTEND;TZID=Europe/Zurich:20261020T190000
DTSTAMP:20260419T224319
CREATED:20260223T081750Z
LAST-MODIFIED:20260223T081834Z
UID:45347-1792519200-1792522800@bio-medica-basel.ch
SUMMARY:Intuitive und flexible Praxisverwaltung mit HealthAdvisor
DESCRIPTION:Zur  Anmeldung
URL:https://bio-medica-basel.ch/veranstaltungen/intuitive-und-flexible-praxisverwaltung-mit-healthadvisor-2/
CATEGORIES:Gratis-Webinare
END:VEVENT
BEGIN:VEVENT
DTSTART;TZID=Europe/Zurich:20261110T180000
DTEND;TZID=Europe/Zurich:20261110T190000
DTSTAMP:20260419T224319
CREATED:20260223T081850Z
LAST-MODIFIED:20260223T081931Z
UID:45350-1794333600-1794337200@bio-medica-basel.ch
SUMMARY:Moderne Praxisverwaltung mit healthapp.ch
DESCRIPTION:Zur  Anmeldung
URL:https://bio-medica-basel.ch/veranstaltungen/moderne-praxisverwaltung-mit-healthappch-2/
CATEGORIES:Gratis-Webinare
END:VEVENT
BEGIN:VEVENT
DTSTART;TZID=Europe/Zurich:20261110T183000
DTEND;TZID=Europe/Zurich:20261110T193000
DTSTAMP:20260419T224319
CREATED:20250923T063006Z
LAST-MODIFIED:20260213T120257Z
UID:42796-1794335400-1794339000@bio-medica-basel.ch
SUMMARY:Infoabend Online\, 10. November
DESCRIPTION:Der Zoom-Link wird nach deiner Anmeldung per Mail verschickt.\nWir informieren dich gerne online über die 30-jährige Bio-Medica-Schulentwicklung. An diesem informativen Abend lernst du unser Ausbildungs-\, Weiterbildung- und Kursangebot kennen. Der Infoabend beginnt um 18.30 Uhr und dauert ungefähr bis 19.30 Uhr. Anschliessend beantworten wir gerne deine offenen Fragen.
URL:https://bio-medica-basel.ch/veranstaltungen/infoabend-10-november/
LOCATION:Bio-Medica Fachschule GmbH\, Schweizergasse 33\, Basel\, 4054\, Schweiz
CATEGORIES:Infoabende
ATTACH;FMTTYPE=image/jpeg:https://bio-medica-basel.ch/wp-content/uploads/2021/09/Infoabend.jpg
ORGANIZER;CN="Bio-Medica Fachschule GmbH":MAILTO:info@bio-medica-basel.ch
END:VEVENT
BEGIN:VEVENT
DTSTART;TZID=Europe/Zurich:20261208T183000
DTEND;TZID=Europe/Zurich:20261208T193000
DTSTAMP:20260419T224319
CREATED:20251211T103615Z
LAST-MODIFIED:20260213T120252Z
UID:43927-1796754600-1796758200@bio-medica-basel.ch
SUMMARY:Infoabend Online\, 08. Dezember
DESCRIPTION:Der Zoom-Link wird nach deiner Anmeldung per Mail verschickt.\nWir informieren dich gerne online über die 30-jährige Bio-Medica-Schulentwicklung. An diesem informativen Abend lernst du unser Ausbildungs-\, Weiterbildung- und Kursangebot kennen. Der Infoabend beginnt um 18.30 Uhr und dauert ungefähr bis 19.30 Uhr. Anschliessend beantworten wir gerne deine offenen Fragen.
URL:https://bio-medica-basel.ch/veranstaltungen/infoabend-8-dezember/
LOCATION:Bio-Medica Fachschule GmbH\, Schweizergasse 33\, Basel\, 4054\, Schweiz
CATEGORIES:Infoabende
ATTACH;FMTTYPE=image/jpeg:https://bio-medica-basel.ch/wp-content/uploads/2021/09/Infoabend.jpg
ORGANIZER;CN="Bio-Medica Fachschule GmbH":MAILTO:info@bio-medica-basel.ch
END:VEVENT
END:VCALENDAR